BEGIN:VCALENDAR
VERSION:2.0
PRODID:-//Kenora District Law Association - ECPv6.15.15//NONSGML v1.0//EN
CALSCALE:GREGORIAN
METHOD:PUBLISH
X-WR-CALNAME:Kenora District Law Association
X-ORIGINAL-URL:https://www.kenoradistrictlawassociation.com
X-WR-CALDESC:Events for Kenora District Law Association
REFRESH-INTERVAL;VALUE=DURATION:PT1H
X-Robots-Tag:noindex
X-PUBLISHED-TTL:PT1H
BEGIN:VTIMEZONE
TZID:America/Toronto
BEGIN:DAYLIGHT
TZOFFSETFROM:-0500
TZOFFSETTO:-0400
TZNAME:EDT
DTSTART:20240310T070000
END:DAYLIGHT
BEGIN:STANDARD
TZOFFSETFROM:-0400
TZOFFSETTO:-0500
TZNAME:EST
DTSTART:20241103T060000
END:STANDARD
BEGIN:DAYLIGHT
TZOFFSETFROM:-0500
TZOFFSETTO:-0400
TZNAME:EDT
DTSTART:20250309T070000
END:DAYLIGHT
BEGIN:STANDARD
TZOFFSETFROM:-0400
TZOFFSETTO:-0500
TZNAME:EST
DTSTART:20251102T060000
END:STANDARD
BEGIN:DAYLIGHT
TZOFFSETFROM:-0500
TZOFFSETTO:-0400
TZNAME:EDT
DTSTART:20260308T070000
END:DAYLIGHT
BEGIN:STANDARD
TZOFFSETFROM:-0400
TZOFFSETTO:-0500
TZNAME:EST
DTSTART:20261101T060000
END:STANDARD
END:VTIMEZONE
BEGIN:VEVENT
DTSTART;TZID=America/Toronto:20250523T160000
DTEND;TZID=America/Toronto:20250523T210000
DTSTAMP:20260420T065333
CREATED:20250522T165039Z
LAST-MODIFIED:20250527T135444Z
UID:2612-1748016000-1748034000@www.kenoradistrictlawassociation.com
SUMMARY:Spring Gathering at Lake of the Woods Brewing Company (In person)
DESCRIPTION:
URL:https://www.kenoradistrictlawassociation.com/event/spring-gathering-in-person/
CATEGORIES:Events
END:VEVENT
BEGIN:VEVENT
DTSTART;TZID=America/Toronto:20250523T100000
DTEND;TZID=America/Toronto:20250523T100000
DTSTAMP:20260420T065333
CREATED:20250506T143328Z
LAST-MODIFIED:20250506T143328Z
UID:1161-1747994400-1747994400@www.kenoradistrictlawassociation.com
SUMMARY:KENORA KEN-250 TR
DESCRIPTION:
URL:https://www.kenoradistrictlawassociation.com/event/kenora-ken-250-tr-3/
CATEGORIES:Court Schedules,Kenora
END:VEVENT
BEGIN:VEVENT
DTSTART;TZID=America/Toronto:20250523T100000
DTEND;TZID=America/Toronto:20250523T100000
DTSTAMP:20260420T065333
CREATED:20250506T143307Z
LAST-MODIFIED:20250506T143307Z
UID:1159-1747994400-1747994400@www.kenoradistrictlawassociation.com
SUMMARY:KENORA KEN-140 PLEA
DESCRIPTION:
URL:https://www.kenoradistrictlawassociation.com/event/kenora-ken-140-plea/
CATEGORIES:Court Schedules,Kenora
END:VEVENT
BEGIN:VEVENT
DTSTART;TZID=America/Toronto:20250523T093000
DTEND;TZID=America/Toronto:20250523T093000
DTSTAMP:20260420T065333
CREATED:20250506T143243Z
LAST-MODIFIED:20250506T143243Z
UID:1157-1747992600-1747992600@www.kenoradistrictlawassociation.com
SUMMARY:KENORA KEN-140 TM
DESCRIPTION:
URL:https://www.kenoradistrictlawassociation.com/event/kenora-ken-140-tm-2/
CATEGORIES:Court Schedules,Kenora
END:VEVENT
BEGIN:VEVENT
DTSTART;TZID=America/Toronto:20250522T100000
DTEND;TZID=America/Toronto:20250522T100000
DTSTAMP:20260420T065333
CREATED:20250506T143222Z
LAST-MODIFIED:20250506T143222Z
UID:1155-1747908000-1747908000@www.kenoradistrictlawassociation.com
SUMMARY:KENORA KEN-140 SPT
DESCRIPTION:
URL:https://www.kenoradistrictlawassociation.com/event/kenora-ken-140-spt-2/
CATEGORIES:Court Schedules,Kenora
END:VEVENT
BEGIN:VEVENT
DTSTART;TZID=America/Toronto:20250522T100000
DTEND;TZID=America/Toronto:20250522T100000
DTSTAMP:20260420T065333
CREATED:20250502T195638Z
LAST-MODIFIED:20250502T195638Z
UID:509-1747908000-1747908000@www.kenoradistrictlawassociation.com
SUMMARY:WEAGAMOW LAKE WEA CM
DESCRIPTION:
URL:https://www.kenoradistrictlawassociation.com/event/weagamow-lake-wea-cm-3/
CATEGORIES:Court Schedules,Dryden
END:VEVENT
BEGIN:VEVENT
DTSTART;TZID=America/Toronto:20250521T140000
DTEND;TZID=America/Toronto:20250521T140000
DTSTAMP:20260420T065333
CREATED:20250528T161720Z
LAST-MODIFIED:20250528T161720Z
UID:2674-1747836000-1747836000@www.kenoradistrictlawassociation.com
SUMMARY:SIOUX LOOKOUT SLO-1 YCJA
DESCRIPTION:
URL:https://www.kenoradistrictlawassociation.com/event/sioux-lookout-slo-1-ycja-10/
CATEGORIES:Court Schedules,Dryden
END:VEVENT
BEGIN:VEVENT
DTSTART;TZID=America/Toronto:20250521T100000
DTEND;TZID=America/Toronto:20250521T100000
DTSTAMP:20260420T065333
CREATED:20250506T143159Z
LAST-MODIFIED:20250506T143159Z
UID:1153-1747821600-1747821600@www.kenoradistrictlawassociation.com
SUMMARY:KENORA KEN-CH JPT
DESCRIPTION:
URL:https://www.kenoradistrictlawassociation.com/event/kenora-ken-ch-jpt-6/
CATEGORIES:Court Schedules,Kenora
END:VEVENT
BEGIN:VEVENT
DTSTART;TZID=America/Toronto:20250521T100000
DTEND;TZID=America/Toronto:20250521T100000
DTSTAMP:20260420T065333
CREATED:20250506T143137Z
LAST-MODIFIED:20250506T143137Z
UID:1151-1747821600-1747821600@www.kenoradistrictlawassociation.com
SUMMARY:KENORA KEN-140 TR
DESCRIPTION:
URL:https://www.kenoradistrictlawassociation.com/event/kenora-ken-140-tr-20/
CATEGORIES:Court Schedules,Kenora
END:VEVENT
BEGIN:VEVENT
DTSTART;TZID=America/Toronto:20250521T100000
DTEND;TZID=America/Toronto:20250521T100000
DTSTAMP:20260420T065333
CREATED:20250506T134052Z
LAST-MODIFIED:20250506T134052Z
UID:954-1747821600-1747821600@www.kenoradistrictlawassociation.com
SUMMARY:FORT FRANCES FF PLEA
DESCRIPTION:
URL:https://www.kenoradistrictlawassociation.com/event/fort-frances-ff-plea/
CATEGORIES:Court Schedules,Fort Frances
END:VEVENT
BEGIN:VEVENT
DTSTART;TZID=America/Toronto:20250521T100000
DTEND;TZID=America/Toronto:20250521T100000
DTSTAMP:20260420T065333
CREATED:20250502T195607Z
LAST-MODIFIED:20250502T195607Z
UID:507-1747821600-1747821600@www.kenoradistrictlawassociation.com
SUMMARY:SIOUX LOOKOUT SLO-1 CM
DESCRIPTION:
URL:https://www.kenoradistrictlawassociation.com/event/sioux-lookout-slo-1-cm-8/
CATEGORIES:Court Schedules,Dryden
END:VEVENT
BEGIN:VEVENT
DTSTART;TZID=America/Toronto:20250521T093000
DTEND;TZID=America/Toronto:20250521T093000
DTSTAMP:20260420T065333
CREATED:20250506T134030Z
LAST-MODIFIED:20250506T134030Z
UID:952-1747819800-1747819800@www.kenoradistrictlawassociation.com
SUMMARY:FORT FRANCES FF TM
DESCRIPTION:
URL:https://www.kenoradistrictlawassociation.com/event/fort-frances-ff-tm-3/
CATEGORIES:Court Schedules,Fort Frances
END:VEVENT
BEGIN:VEVENT
DTSTART;TZID=America/Toronto:20250521T090000
DTEND;TZID=America/Toronto:20250521T090000
DTSTAMP:20260420T065333
CREATED:20250505T163054Z
LAST-MODIFIED:20250505T170338Z
UID:724-1747818000-1747818000@www.kenoradistrictlawassociation.com
SUMMARY:Trial Confirmation Court
DESCRIPTION:Zoom Connection Info:\nThunder Bay\, Kenora and Fort Frances – Speak to Running List and Trial Confirmation Court \nJoin Zoom Meeting\nhttps://ca01web.zoom.us/j/61130716711?pwd=1zBz4A9bE88YSbPwOBMrCD6aLG8BCQ.1 \nMeeting ID: 611 3071 6711  /  Passcode: 394889\nCanada Toll-free 855 703 8985
URL:https://www.kenoradistrictlawassociation.com/event/trial-confirmation-court-5/
CATEGORIES:Court Schedules,SCJ
END:VEVENT
BEGIN:VEVENT
DTSTART;TZID=America/Toronto:20250520T140000
DTEND;TZID=America/Toronto:20250520T140000
DTSTAMP:20260420T065333
CREATED:20250528T161652Z
LAST-MODIFIED:20250528T161652Z
UID:2672-1747749600-1747749600@www.kenoradistrictlawassociation.com
SUMMARY:DRYDEN DRY-1 PLEA
DESCRIPTION:
URL:https://www.kenoradistrictlawassociation.com/event/dryden-dry-1-plea-18/
CATEGORIES:Court Schedules,Dryden
END:VEVENT
BEGIN:VEVENT
DTSTART;TZID=America/Toronto:20250520T100000
DTEND;TZID=America/Toronto:20250520T100000
DTSTAMP:20260420T065333
CREATED:20250506T143113Z
LAST-MODIFIED:20250506T143113Z
UID:1149-1747735200-1747735200@www.kenoradistrictlawassociation.com
SUMMARY:KENORA KEN-300 TR Closed
DESCRIPTION:
URL:https://www.kenoradistrictlawassociation.com/event/kenora-ken-300-tr-closed/
CATEGORIES:Court Schedules,Kenora
END:VEVENT
BEGIN:VEVENT
DTSTART;TZID=America/Toronto:20250520T100000
DTEND;TZID=America/Toronto:20250520T100000
DTSTAMP:20260420T065333
CREATED:20250506T143050Z
LAST-MODIFIED:20250506T143050Z
UID:1147-1747735200-1747735200@www.kenoradistrictlawassociation.com
SUMMARY:KENORA KEN-140 ERC
DESCRIPTION:
URL:https://www.kenoradistrictlawassociation.com/event/kenora-ken-140-erc-5/
CATEGORIES:Court Schedules,Kenora
END:VEVENT
BEGIN:VEVENT
DTSTART;TZID=America/Toronto:20250520T100000
DTEND;TZID=America/Toronto:20250520T100000
DTSTAMP:20260420T065333
CREATED:20250502T195539Z
LAST-MODIFIED:20250502T195539Z
UID:505-1747735200-1747735200@www.kenoradistrictlawassociation.com
SUMMARY:DRYDEN DRY-1  CM
DESCRIPTION:
URL:https://www.kenoradistrictlawassociation.com/event/dryden-dry-1-cm-9/
CATEGORIES:Court Schedules,Dryden
END:VEVENT
BEGIN:VEVENT
DTSTART;TZID=America/Toronto:20250520T080000
DTEND;TZID=America/Toronto:20250520T080000
DTSTAMP:20260420T065333
CREATED:20250505T170002Z
LAST-MODIFIED:20250505T170321Z
UID:742-1747728000-1747728000@www.kenoradistrictlawassociation.com
SUMMARY:Trial Confirmation Court
DESCRIPTION:Zoom Connection Info:\nThunder Bay\, Kenora and Fort Frances – Speak to Running List and Trial Confirmation Court \nJoin Zoom Meeting\nhttps://ca01web.zoom.us/j/61130716711?pwd=1zBz4A9bE88YSbPwOBMrCD6aLG8BCQ.1 \nMeeting ID: 611 3071 6711  /  Passcode: 394889\nCanada Toll-free 855 703 8985
URL:https://www.kenoradistrictlawassociation.com/event/trial-confirmation-court-10/
CATEGORIES:Court Schedules,SCJ
END:VEVENT
BEGIN:VEVENT
DTSTART;VALUE=DATE:20250520
DTEND;VALUE=DATE:20250521
DTSTAMP:20260420T065333
CREATED:20250505T171145Z
LAST-MODIFIED:20250505T171218Z
UID:798-1747699200-1747785599@www.kenoradistrictlawassociation.com
SUMMARY:THUNDER BAY FAMILY LAW MIP SESSIONS - RESPONDENTS
DESCRIPTION:
URL:https://www.kenoradistrictlawassociation.com/event/thunder-bay-family-law-mip-sessions-respondents-5/
CATEGORIES:Court Schedules,SCJ
END:VEVENT
BEGIN:VEVENT
DTSTART;VALUE=DATE:20250519
DTEND;VALUE=DATE:20250524
DTSTAMP:20260420T065333
CREATED:20250506T132006Z
LAST-MODIFIED:20250506T132006Z
UID:870-1747612800-1748044799@www.kenoradistrictlawassociation.com
SUMMARY:Jury and Non-Jury Running List Week
DESCRIPTION:
URL:https://www.kenoradistrictlawassociation.com/event/jury-and-non-jury-running-list-week-27/
CATEGORIES:Court Schedules,SCJ
END:VEVENT
BEGIN:VEVENT
DTSTART;TZID=America/Toronto:20250516T100000
DTEND;TZID=America/Toronto:20250516T100000
DTSTAMP:20260420T065333
CREATED:20250506T143008Z
LAST-MODIFIED:20250506T143008Z
UID:1143-1747389600-1747389600@www.kenoradistrictlawassociation.com
SUMMARY:KENORA KEN-300 PLEA
DESCRIPTION:
URL:https://www.kenoradistrictlawassociation.com/event/kenora-ken-300-plea-8/
CATEGORIES:Court Schedules,Kenora
END:VEVENT
BEGIN:VEVENT
DTSTART;TZID=America/Toronto:20250516T100000
DTEND;TZID=America/Toronto:20250516T100000
DTSTAMP:20260420T065333
CREATED:20250506T142943Z
LAST-MODIFIED:20250506T142943Z
UID:1141-1747389600-1747389600@www.kenoradistrictlawassociation.com
SUMMARY:KENORA KEN-140 TR
DESCRIPTION:
URL:https://www.kenoradistrictlawassociation.com/event/kenora-ken-140-tr-19/
CATEGORIES:Court Schedules,Kenora
END:VEVENT
BEGIN:VEVENT
DTSTART;TZID=America/Toronto:20250516T100000
DTEND;TZID=America/Toronto:20250516T100000
DTSTAMP:20260420T065333
CREATED:20250502T195503Z
LAST-MODIFIED:20250502T195503Z
UID:503-1747389600-1747389600@www.kenoradistrictlawassociation.com
SUMMARY:RED LAKE RL TR
DESCRIPTION:
URL:https://www.kenoradistrictlawassociation.com/event/red-lake-rl-tr-2/
CATEGORIES:Court Schedules,Dryden
END:VEVENT
BEGIN:VEVENT
DTSTART;TZID=America/Toronto:20250516T100000
DTEND;TZID=America/Toronto:20250516T100000
DTSTAMP:20260420T065333
CREATED:20250502T195434Z
LAST-MODIFIED:20250502T195434Z
UID:501-1747389600-1747389600@www.kenoradistrictlawassociation.com
SUMMARY:Mishkeegogamang MISH CM
DESCRIPTION:
URL:https://www.kenoradistrictlawassociation.com/event/mishkeegogamang-mish-cm-4/
CATEGORIES:Court Schedules,Dryden
END:VEVENT
BEGIN:VEVENT
DTSTART;TZID=America/Toronto:20250516T093000
DTEND;TZID=America/Toronto:20250516T093000
DTSTAMP:20260420T065333
CREATED:20250506T143029Z
LAST-MODIFIED:20250506T143029Z
UID:1145-1747387800-1747387800@www.kenoradistrictlawassociation.com
SUMMARY:KENORA KEN-300 TM
DESCRIPTION:
URL:https://www.kenoradistrictlawassociation.com/event/kenora-ken-300-tm-7/
CATEGORIES:Court Schedules,Kenora
END:VEVENT
BEGIN:VEVENT
DTSTART;TZID=America/Toronto:20250515T153000
DTEND;TZID=America/Toronto:20250515T153000
DTSTAMP:20260420T065333
CREATED:20250502T195407Z
LAST-MODIFIED:20250502T195407Z
UID:499-1747323000-1747323000@www.kenoradistrictlawassociation.com
SUMMARY:RED LAKE RL FAFALA
DESCRIPTION:
URL:https://www.kenoradistrictlawassociation.com/event/red-lake-rl-fafala/
CATEGORIES:Court Schedules,Dryden
END:VEVENT
BEGIN:VEVENT
DTSTART;TZID=America/Toronto:20250515T150000
DTEND;TZID=America/Toronto:20250515T150000
DTSTAMP:20260420T065333
CREATED:20250505T142752Z
LAST-MODIFIED:20250505T143924Z
UID:629-1747321200-1747321200@www.kenoradistrictlawassociation.com
SUMMARY:REGIONAL BAIL ESTREATMENTS
DESCRIPTION:Zoom Connection Info: Detention Reviews and Bail Estreatments \nJoin Zoom Meeting\nhttps://ca01web.zoom.us/j/61130716711?pwd=1zBz4A9bE88YSbPwOBMrCD6aLG8BCQ.1 \nMeeting ID: 611 3071 6711  /  Passcode: 394889\nCanada Toll-free 855 703 8985
URL:https://www.kenoradistrictlawassociation.com/event/regional-bail-estreatments-5/
CATEGORIES:Court Schedules,SCJ
END:VEVENT
BEGIN:VEVENT
DTSTART;TZID=America/Toronto:20250515T150000
DTEND;TZID=America/Toronto:20250515T150000
DTSTAMP:20260420T065333
CREATED:20250502T195337Z
LAST-MODIFIED:20250502T195337Z
UID:497-1747321200-1747321200@www.kenoradistrictlawassociation.com
SUMMARY:RED LAKE RL CYFSA
DESCRIPTION:
URL:https://www.kenoradistrictlawassociation.com/event/red-lake-rl-cyfsa-2/
CATEGORIES:Court Schedules,Dryden
END:VEVENT
BEGIN:VEVENT
DTSTART;TZID=America/Toronto:20250515T141500
DTEND;TZID=America/Toronto:20250515T141500
DTSTAMP:20260420T065333
CREATED:20250502T195307Z
LAST-MODIFIED:20250502T195307Z
UID:495-1747318500-1747318500@www.kenoradistrictlawassociation.com
SUMMARY:RED LAKE RL YCJA
DESCRIPTION:
URL:https://www.kenoradistrictlawassociation.com/event/red-lake-rl-ycja/
CATEGORIES:Court Schedules,Dryden
END:VEVENT
BEGIN:VEVENT
DTSTART;TZID=America/Toronto:20250515T140000
DTEND;TZID=America/Toronto:20250515T140000
DTSTAMP:20260420T065333
CREATED:20250502T205822Z
LAST-MODIFIED:20250502T205822Z
UID:591-1747317600-1747317600@www.kenoradistrictlawassociation.com
SUMMARY:REGIONAL DETENTION REVIEWS
DESCRIPTION:
URL:https://www.kenoradistrictlawassociation.com/event/regional-detention-reviews-9/
CATEGORIES:Court Schedules,SCJ
END:VEVENT
END:VCALENDAR